BEGIN:VCALENDAR
VERSION:2.0
PRODID:-//hacksw/handcal//NONSGML v1.0//EN
CALSCALE:GREGORIAN
BEGIN:VEVENT
DTEND:20260702T170000Z
UID:69e5def68539b
DTSTAMP:20260420T100822Z
LOCATION:Le Couvent des Jacobins\, Rennes
DESCRIPTION:
URL;VALUE=URI:https://www.sia.fr//publications/4-challenge-pitch-nemmo-propose-solutions-to-decarbonize-the-mobility-of-tomorrow
SUMMARY:[SIA] CHALLENGE PITCH NeMMo: Rethink. Reinvent. Re-materialize mobility
DTSTART:20260701T060000Z
END:VEVENT
END:VCALENDAR
